BEGIN:VCALENDAR
VERSION:2.0
PRODID:-//81.19.159.79//NONSGML kigkonsult.se iCalcreator 2.20//
CALSCALE:GREGORIAN
METHOD:PUBLISH
X-WR-TIMEZONE:UTC
BEGIN:VEVENT
UID:event53@Krocant - Edelsbach
DTSTAMP:20260424T023825Z
CATEGORIES:Proben
DESCRIPTION:Probentag\nKategorie: Proben\nICS-Link: http://www.krocant.at/i
 ndex.php?option=com_jem&view=event&id=53:probentag\n
DTSTART:20200215T090000Z
DTEND:20200215T170000Z
SUMMARY:Probentag
URL:http://www.krocant.at/index.php?option=com_jem&view=event&id=53:probent
 ag
END:VEVENT
END:VCALENDAR
